BEGIN:VCALENDAR
VERSION:2.0
PRODID:-//Serengeti Camping Safari - ECPv6.15.16.1//NONSGML v1.0//EN
CALSCALE:GREGORIAN
METHOD:PUBLISH
X-WR-CALNAME:Serengeti Camping Safari
X-ORIGINAL-URL:https://serengeticampingsafari.com
X-WR-CALDESC:Events for Serengeti Camping Safari
REFRESH-INTERVAL;VALUE=DURATION:PT1H
X-Robots-Tag:noindex
X-PUBLISHED-TTL:PT1H
BEGIN:VTIMEZONE
TZID:UTC
BEGIN:STANDARD
TZOFFSETFROM:+0000
TZOFFSETTO:+0000
TZNAME:UTC
DTSTART:20230101T000000
END:STANDARD
END:VTIMEZONE
BEGIN:VEVENT
DTSTART;VALUE=DATE:20251213
DTEND;VALUE=DATE:20251222
DTSTAMP:20260425T203619
CREATED:20240106T101841Z
LAST-MODIFIED:20240106T103449Z
UID:13478-1765584000-1766361599@serengeticampingsafari.com
SUMMARY:8 DAYS LEMOSHO ROUTE DECEMBER FULL MOON SUMMIT
DESCRIPTION:8 days Lemosho route full moon summit climbing Mount Kilimanjaro is the best adventure begin your new year with\, experience a special night-time adventure aiming to reach the top of Uhuru Peak when the moon is shining brightly.
URL:https://serengeticampingsafari.com/event/8-days-lemosho-route-december-full-moon-summit-2/
CATEGORIES:Full Moon Dates
ATTACH;FMTTYPE=image/jpeg:https://serengeticampingsafari.com/wp-content/uploads/2023/12/serengeti-camping-3-jpg.webp
END:VEVENT
BEGIN:VEVENT
DTSTART;VALUE=DATE:20251115
DTEND;VALUE=DATE:20251123
DTSTAMP:20260425T203619
CREATED:20240106T103741Z
LAST-MODIFIED:20240106T103741Z
UID:13480-1763164800-1763855999@serengeticampingsafari.com
SUMMARY:7 DAYS RONGAI ROUTE NOVEMBER FULL MOON SUMMIT
DESCRIPTION:7 days Rongai route full moon summit climbing Mount Kilimanjaro is the best adventure begin your new year with\, experience a special night-time adventure aiming to reach the top of Uhuru Peak when the moon is shining brightly.
URL:https://serengeticampingsafari.com/event/7-days-rongai-route-november-full-moon-summit-2/
CATEGORIES:Full Moon Dates
ATTACH;FMTTYPE=image/jpeg:https://serengeticampingsafari.com/wp-content/uploads/2023/12/serengeti-camping-4-jpg.webp
END:VEVENT
BEGIN:VEVENT
DTSTART;VALUE=DATE:20251007
DTEND;VALUE=DATE:20251016
DTSTAMP:20260425T203619
CREATED:20240106T103932Z
LAST-MODIFIED:20240106T104038Z
UID:13482-1759795200-1760572799@serengeticampingsafari.com
SUMMARY:8 DAYS LEMOSHO ROUTE OCTOBER FULL MOON SUMMIT
DESCRIPTION:8 days Lemosho route full moon summit climbing Mount Kilimanjaro is the best adventure begin your new year with\, experience a special night-time adventure aiming to reach the top of Uhuru Peak when the moon is shining brightly.
URL:https://serengeticampingsafari.com/event/8-days-lemosho-route-october-full-moon-summit-2/
CATEGORIES:Full Moon Dates
ATTACH;FMTTYPE=image/jpeg:https://serengeticampingsafari.com/wp-content/uploads/2023/12/serengeti-camping-2-jpg.webp
END:VEVENT
BEGIN:VEVENT
DTSTART;VALUE=DATE:20251006
DTEND;VALUE=DATE:20251016
DTSTAMP:20260425T203619
CREATED:20240106T104130Z
LAST-MODIFIED:20240106T104252Z
UID:13484-1759708800-1760572799@serengeticampingsafari.com
SUMMARY:9 DAYS NORTHERN CIRCUIT OCTOBER FULL MOON SUMMIT
DESCRIPTION:9 days northern circuit full moon summit climbing Mount Kilimanjaro is the best adventure begin your new year with\, experience a special night-time adventure aiming to reach the top of Uhuru Peak when the moon is shining brightly.
URL:https://serengeticampingsafari.com/event/9-days-northern-circuit-october-full-moon-summit-2/
CATEGORIES:Full Moon Dates
ATTACH;FMTTYPE=image/jpeg:https://serengeticampingsafari.com/wp-content/uploads/2023/12/Close-Up-in-the-Clouds-of-Kilimanjaro-jpg.webp
END:VEVENT
BEGIN:VEVENT
DTSTART;VALUE=DATE:20250909
DTEND;VALUE=DATE:20250918
DTSTAMP:20260425T203619
CREATED:20240106T104431Z
LAST-MODIFIED:20240106T104546Z
UID:13488-1757376000-1758153599@serengeticampingsafari.com
SUMMARY:8 DAYS LEMOSHO ROUTE SEPTEMBER FULL MOON SUMMIT
DESCRIPTION:8 days Lemosho route full moon summit climbing Mount Kilimanjaro is the best adventure begin your new year with\, experience a special night-time adventure aiming to reach the top of Uhuru Peak when the moon is shining brightly.
URL:https://serengeticampingsafari.com/event/8-days-lemosho-route-september-full-moon-summit/
CATEGORIES:Full Moon Dates
ATTACH;FMTTYPE=image/jpeg:https://serengeticampingsafari.com/wp-content/uploads/2023/12/serengeti-camping-3-jpg.webp
END:VEVENT
BEGIN:VEVENT
DTSTART;VALUE=DATE:20250908
DTEND;VALUE=DATE:20250918
DTSTAMP:20260425T203619
CREATED:20240106T104652Z
LAST-MODIFIED:20240106T104652Z
UID:13490-1757289600-1758153599@serengeticampingsafari.com
SUMMARY:9 DAYS NORTHERN CIRCUIT SEPTEMBER FULL MOON SUMMIT
DESCRIPTION:9 days northern circuit full moon summit climbing Mount Kilimanjaro is the best adventure begin your new year with\, experience a special night-time adventure aiming to reach the top of Uhuru Peak when the moon is shining brightly.
URL:https://serengeticampingsafari.com/event/9-days-northern-circuit-september-full-moon-summit-3/
CATEGORIES:Full Moon Dates
ATTACH;FMTTYPE=image/jpeg:https://serengeticampingsafari.com/wp-content/uploads/2023/12/serengeti-camping-2-jpg.webp
END:VEVENT
BEGIN:VEVENT
DTSTART;VALUE=DATE:20250811
DTEND;VALUE=DATE:20250820
DTSTAMP:20260425T203619
CREATED:20240106T104755Z
LAST-MODIFIED:20240106T104755Z
UID:13492-1754870400-1755647999@serengeticampingsafari.com
SUMMARY:8 DAYS LEMOSHO ROUTE AUGUST FULL MOON SUMMIT
DESCRIPTION:8 days Lemosho route full moon summit climbing Mount Kilimanjaro is the best adventure begin your new year with\, experience a special night-time adventure aiming to reach the top of Uhuru Peak when the moon is shining brightly.
URL:https://serengeticampingsafari.com/event/8-days-lemosho-route-august-full-moon-summit-2/
CATEGORIES:Full Moon Dates
ATTACH;FMTTYPE=image/jpeg:https://serengeticampingsafari.com/wp-content/uploads/2023/12/serengeti-camping-2-jpg.webp
END:VEVENT
BEGIN:VEVENT
DTSTART;VALUE=DATE:20250712
DTEND;VALUE=DATE:20250721
DTSTAMP:20260425T203619
CREATED:20240106T104854Z
LAST-MODIFIED:20240106T104854Z
UID:13494-1752278400-1753055999@serengeticampingsafari.com
SUMMARY:8 DAYS LEMOSHO ROUTE JULY FULL MOON SUMMIT
DESCRIPTION:8 days Lemosho route full moon summit climbing Mount Kilimanjaro is the best adventure begin your new year with\, experience a special night-time adventure aiming to reach the top of Uhuru Peak when the moon is shining brightly.
URL:https://serengeticampingsafari.com/event/8-days-lemosho-route-july-full-moon-summit-2/
CATEGORIES:Full Moon Dates
ATTACH;FMTTYPE=image/jpeg:https://serengeticampingsafari.com/wp-content/uploads/2023/12/serengeti-camping-6-jpg.webp
END:VEVENT
BEGIN:VEVENT
DTSTART;VALUE=DATE:20250711
DTEND;VALUE=DATE:20250721
DTSTAMP:20260425T203619
CREATED:20240106T104953Z
LAST-MODIFIED:20240106T104953Z
UID:13496-1752192000-1753055999@serengeticampingsafari.com
SUMMARY:9 DAYS NORTHERN CIRCUIT JULY FULL MOON SUMMIT
DESCRIPTION:9 days northern circuit full moon summit climbing Mount Kilimanjaro is the best adventure begin your new year with\, experience a special night-time adventure aiming to reach the top of Uhuru Peak when the moon is shining brightly.
URL:https://serengeticampingsafari.com/event/9-days-northern-circuit-july-full-moon-summit-2/
CATEGORIES:Full Moon Dates
ATTACH;FMTTYPE=image/jpeg:https://serengeticampingsafari.com/wp-content/uploads/2023/12/serengeti-camping-3-jpg.webp
END:VEVENT
BEGIN:VEVENT
DTSTART;VALUE=DATE:20250613
DTEND;VALUE=DATE:20250623
DTSTAMP:20260425T203619
CREATED:20240106T105059Z
LAST-MODIFIED:20240106T105059Z
UID:13498-1749772800-1750636799@serengeticampingsafari.com
SUMMARY:8 DAYS LEMOSHO ROUTE JUNE FULL MOON SUMMIT
DESCRIPTION:8 days Lemosho route full moon summit climbing Mount Kilimanjaro is the best adventure begin your new year with\, experience a special night-time adventure aiming to reach the top of Uhuru Peak when the moon is shining brightly.
URL:https://serengeticampingsafari.com/event/8-days-lemosho-route-june-full-moon-summit-2/
CATEGORIES:Full Moon Dates
ATTACH;FMTTYPE=image/jpeg:https://serengeticampingsafari.com/wp-content/uploads/2023/12/serengeti-camping-5-jpg.webp
END:VEVENT
BEGIN:VEVENT
DTSTART;VALUE=DATE:20250520
DTEND;VALUE=DATE:20250528
DTSTAMP:20260425T203619
CREATED:20240106T105315Z
LAST-MODIFIED:20240106T105315Z
UID:13500-1747699200-1748390399@serengeticampingsafari.com
SUMMARY:7 DAYS RONGAI ROUTE MAY FULL MOON SUMMIT
DESCRIPTION:7 days Rongai route full moon summit climbing Mount Kilimanjaro is the best adventure begin your new year with\, experience a special night-time adventure aiming to reach the top of Uhuru Peak when the moon is shining brightly.
URL:https://serengeticampingsafari.com/event/7-days-rongai-route-may-full-moon-summit-2/
CATEGORIES:Full Moon Dates
ATTACH;FMTTYPE=image/jpeg:https://serengeticampingsafari.com/wp-content/uploads/2023/12/serengeti-camping-6-jpg.webp
END:VEVENT
BEGIN:VEVENT
DTSTART;VALUE=DATE:20250412
DTEND;VALUE=DATE:20250420
DTSTAMP:20260425T203619
CREATED:20240106T105535Z
LAST-MODIFIED:20240106T105535Z
UID:13502-1744416000-1745107199@serengeticampingsafari.com
SUMMARY:7 DAYS RONGAI ROUTE APRIL FULL MOON SUMMIT
DESCRIPTION:7 days Rongai route full moon summit climbing Mount Kilimanjaro is the best adventure begin your new year with\, experience a special night-time adventure aiming to reach the top of Uhuru Peak when the moon is shining brightly.
URL:https://serengeticampingsafari.com/event/7-days-rongai-route-april-full-moon-summit-2/
CATEGORIES:Full Moon Dates
ATTACH;FMTTYPE=image/jpeg:https://serengeticampingsafari.com/wp-content/uploads/2023/12/serengeti-camping-2-jpg.webp
END:VEVENT
BEGIN:VEVENT
DTSTART;VALUE=DATE:20250308
DTEND;VALUE=DATE:20250316
DTSTAMP:20260425T203619
CREATED:20240106T105659Z
LAST-MODIFIED:20240106T105659Z
UID:13504-1741392000-1742083199@serengeticampingsafari.com
SUMMARY:7 DAYS RONGAI ROUTE MARCH FULL MOON SUMMIT
DESCRIPTION:7 days Rongai route full moon summit climbing Mount Kilimanjaro is the best adventure begin your new year with\, experience a special night-time adventure aiming to reach the top of Uhuru Peak when the moon is shining brightly.
URL:https://serengeticampingsafari.com/event/7-days-rongai-route-march-full-moon-summit-2/
CATEGORIES:Full Moon Dates
ATTACH;FMTTYPE=image/jpeg:https://serengeticampingsafari.com/wp-content/uploads/2023/12/serengeti-camping-3-jpg.webp
END:VEVENT
BEGIN:VEVENT
DTSTART;VALUE=DATE:20250214
DTEND;VALUE=DATE:20250223
DTSTAMP:20260425T203619
CREATED:20240106T110202Z
LAST-MODIFIED:20240106T110202Z
UID:13506-1739491200-1740268799@serengeticampingsafari.com
SUMMARY:8 DAYS LEMOSHO ROUTE FEBRUARY FULL MOON SUMMIT
DESCRIPTION:8 days Lemosho route full moon summit climbing Mount Kilimanjaro is the best adventure begin your new year with\, experience a special night-time adventure aiming to reach the top of Uhuru Peak when the moon is shining brightly.
URL:https://serengeticampingsafari.com/event/8-days-lemosho-route-february-full-moon-summit-2/
CATEGORIES:Full Moon Dates
ATTACH;FMTTYPE=image/jpeg:https://serengeticampingsafari.com/wp-content/uploads/2023/12/serengeti-camping-4-jpg.webp
END:VEVENT
BEGIN:VEVENT
DTSTART;VALUE=DATE:20250213
DTEND;VALUE=DATE:20250223
DTSTAMP:20260425T203619
CREATED:20240106T111126Z
LAST-MODIFIED:20240106T111126Z
UID:13508-1739404800-1740268799@serengeticampingsafari.com
SUMMARY:9 DAYS NORTHERN CIRCUIT FEBRUARY FULL MOON SUMMIT
DESCRIPTION:9 days northern circuit full moon summit climbing Mount Kilimanjaro is the best adventure begin your new year with\, experience a special night-time adventure aiming to reach the top of Uhuru Peak when the moon is shining brightly.
URL:https://serengeticampingsafari.com/event/9-days-northern-circuit-february-full-moon-summit/
CATEGORIES:Full Moon Dates
ATTACH;FMTTYPE=image/jpeg:https://serengeticampingsafari.com/wp-content/uploads/2023/12/serengeti-camping-4-jpg.webp
END:VEVENT
BEGIN:VEVENT
DTSTART;VALUE=DATE:20250117
DTEND;VALUE=DATE:20250126
DTSTAMP:20260425T203619
CREATED:20240106T110436Z
LAST-MODIFIED:20240106T111052Z
UID:13509-1737072000-1737849599@serengeticampingsafari.com
SUMMARY:8 DAYS LEMOSHO ROUTE JANUARY FULL MOON SUMMIT
DESCRIPTION:8 days Lemosho route full moon summit climbing Mount Kilimanjaro is the best adventure begin your new year with\, experience a special night-time adventure aiming to reach the top of Uhuru Peak when the moon is shining brightly.
URL:https://serengeticampingsafari.com/event/8-days-lemosho-route-january-full-moon-summit-2/
CATEGORIES:Full Moon Dates
ATTACH;FMTTYPE=image/jpeg:https://serengeticampingsafari.com/wp-content/uploads/2023/12/serengeti-camping-1-jpg.webp
END:VEVENT
BEGIN:VEVENT
DTSTART;VALUE=DATE:20250116
DTEND;VALUE=DATE:20250126
DTSTAMP:20260425T203619
CREATED:20240106T111257Z
LAST-MODIFIED:20240106T111257Z
UID:13512-1736985600-1737849599@serengeticampingsafari.com
SUMMARY:9 DAYS NORTHERN CIRCUIT JANUARY FULL MOON SUMMIT
DESCRIPTION:9 days northern circuit full moon summit climbing Mount Kilimanjaro is the best adventure begin your new year with\, experience a special night-time adventure aiming to reach the top of Uhuru Peak when the moon is shining brightly.
URL:https://serengeticampingsafari.com/event/9-days-northern-circuit-january-full-moon-summit-2/
CATEGORIES:Full Moon Dates
ATTACH;FMTTYPE=image/jpeg:https://serengeticampingsafari.com/wp-content/uploads/2023/12/serengeti-camping-6-jpg.webp
END:VEVENT
BEGIN:VEVENT
DTSTART;VALUE=DATE:20241207
DTEND;VALUE=DATE:20241216
DTSTAMP:20260425T203619
CREATED:20231211T064010Z
LAST-MODIFIED:20231211T071057Z
UID:13397-1733529600-1734307199@serengeticampingsafari.com
SUMMARY:8 DAYS LEMOSHO ROUTE DECEMBER FULL MOON SUMMIT
DESCRIPTION:8 days Lemosho route full moon summit climbing Mount Kilimanjaro is the best adventure begin your new year with\, experience a special night-time adventure aiming to reach the top of Uhuru Peak when the moon is shining brightly.
URL:https://serengeticampingsafari.com/event/8-days-lemosho-route-december-full-moon-summit/
CATEGORIES:Full Moon Dates
ATTACH;FMTTYPE=image/jpeg:https://serengeticampingsafari.com/wp-content/uploads/2023/12/serengeti-camping-3-jpg.webp
END:VEVENT
BEGIN:VEVENT
DTSTART;VALUE=DATE:20241108
DTEND;VALUE=DATE:20241116
DTSTAMP:20260425T203619
CREATED:20231211T063347Z
LAST-MODIFIED:20231211T064143Z
UID:13394-1731024000-1731715199@serengeticampingsafari.com
SUMMARY:7 DAYS RONGAI ROUTE NOVEMBER FULL MOON SUMMIT
DESCRIPTION:7 days Rongai route full moon summit climbing Mount Kilimanjaro is the best adventure begin your new year with\, experience a special night-time adventure aiming to reach the top of Uhuru Peak when the moon is shining brightly.
URL:https://serengeticampingsafari.com/event/7-days-rongai-route-november-full-moon-summit/
CATEGORIES:Full Moon Dates
ATTACH;FMTTYPE=image/jpeg:https://serengeticampingsafari.com/wp-content/uploads/2023/12/serengeti-camping-4-jpg.webp
END:VEVENT
BEGIN:VEVENT
DTSTART;VALUE=DATE:20241009
DTEND;VALUE=DATE:20241018
DTSTAMP:20260425T203619
CREATED:20231209T170001Z
LAST-MODIFIED:20231211T064131Z
UID:13240-1728432000-1729209599@serengeticampingsafari.com
SUMMARY:8 DAYS LEMOSHO ROUTE OCTOBER FULL MOON SUMMIT
DESCRIPTION:8 days Lemosho route full moon summit climbing Mount Kilimanjaro is the best adventure begin your new year with\, experience a special night-time adventure aiming to reach the top of Uhuru Peak when the moon is shining brightly.
URL:https://serengeticampingsafari.com/event/8-days-lemosho-route-october-full-moon-summit/
CATEGORIES:Full Moon Dates
ATTACH;FMTTYPE=image/jpeg:https://serengeticampingsafari.com/wp-content/uploads/2023/12/serengeti-camping-2-jpg.webp
END:VEVENT
BEGIN:VEVENT
DTSTART;VALUE=DATE:20241008
DTEND;VALUE=DATE:20241018
DTSTAMP:20260425T203619
CREATED:20231209T170304Z
LAST-MODIFIED:20231209T170933Z
UID:13243-1728345600-1729209599@serengeticampingsafari.com
SUMMARY:9 DAYS NORTHERN CIRCUIT OCTOBER FULL MOON SUMMIT
DESCRIPTION:9 days northern circuit full moon summit climbing Mount Kilimanjaro is the best adventure begin your new year with\, experience a special night-time adventure aiming to reach the top of Uhuru Peak when the moon is shining brightly.
URL:https://serengeticampingsafari.com/event/9-days-northern-circuit-october-full-moon-summit/
CATEGORIES:Full Moon Dates
ATTACH;FMTTYPE=image/jpeg:https://serengeticampingsafari.com/wp-content/uploads/2023/12/Close-Up-in-the-Clouds-of-Kilimanjaro-jpg.webp
END:VEVENT
BEGIN:VEVENT
DTSTART;VALUE=DATE:20240910
DTEND;VALUE=DATE:20240918
DTSTAMP:20260425T203619
CREATED:20231209T161749Z
LAST-MODIFIED:20231209T170429Z
UID:13237-1725926400-1726617599@serengeticampingsafari.com
SUMMARY:8 DAYS LEMOSHO ROUTE SEPTEMBER FULL MOON SUMMIT
DESCRIPTION:8 days Lemosho route full moon summit climbing Mount Kilimanjaro is the best adventure begin your new year with\, experience a special night-time adventure aiming to reach the top of Uhuru Peak when the moon is shining brightly.
URL:https://serengeticampingsafari.com/event/9-days-northern-circuit-september-full-moon-summit-2/
CATEGORIES:Full Moon Dates
ATTACH;FMTTYPE=image/jpeg:https://serengeticampingsafari.com/wp-content/uploads/2023/12/serengeti-camping-3-jpg.webp
END:VEVENT
BEGIN:VEVENT
DTSTART;VALUE=DATE:20240909
DTEND;VALUE=DATE:20240919
DTSTAMP:20260425T203619
CREATED:20231209T161301Z
LAST-MODIFIED:20231209T170438Z
UID:13234-1725840000-1726703999@serengeticampingsafari.com
SUMMARY:9 DAYS NORTHERN CIRCUIT SEPTEMBER FULL MOON SUMMIT
DESCRIPTION:9 days northern circuit full moon summit climbing Mount Kilimanjaro is the best adventure begin your new year with\, experience a special night-time adventure aiming to reach the top of Uhuru Peak when the moon is shining brightly.
URL:https://serengeticampingsafari.com/event/9-days-northern-circuit-september-full-moon-summit/
CATEGORIES:Full Moon Dates
ATTACH;FMTTYPE=image/jpeg:https://serengeticampingsafari.com/wp-content/uploads/2023/12/serengeti-camping-2-jpg.webp
END:VEVENT
BEGIN:VEVENT
DTSTART;VALUE=DATE:20240811
DTEND;VALUE=DATE:20240820
DTSTAMP:20260425T203619
CREATED:20231209T160020Z
LAST-MODIFIED:20231209T170452Z
UID:13231-1723334400-1724111999@serengeticampingsafari.com
SUMMARY:8 DAYS LEMOSHO ROUTE AUGUST FULL MOON SUMMIT
DESCRIPTION:8 days Lemosho route full moon summit climbing Mount Kilimanjaro is the best adventure begin your new year with\, experience a special night-time adventure aiming to reach the top of Uhuru Peak when the moon is shining brightly.
URL:https://serengeticampingsafari.com/event/8-days-lemosho-route-august-full-moon-summit/
CATEGORIES:Full Moon Dates
ATTACH;FMTTYPE=image/jpeg:https://serengeticampingsafari.com/wp-content/uploads/2023/12/serengeti-camping-2-jpg.webp
END:VEVENT
BEGIN:VEVENT
DTSTART;VALUE=DATE:20240713
DTEND;VALUE=DATE:20240722
DTSTAMP:20260425T203619
CREATED:20231209T155517Z
LAST-MODIFIED:20231209T170501Z
UID:13228-1720828800-1721606399@serengeticampingsafari.com
SUMMARY:8 DAYS LEMOSHO ROUTE JULY FULL MOON SUMMIT
DESCRIPTION:8 days Lemosho route full moon summit climbing Mount Kilimanjaro is the best adventure begin your new year with\, experience a special night-time adventure aiming to reach the top of Uhuru Peak when the moon is shining brightly.
URL:https://serengeticampingsafari.com/event/8-days-lemosho-route-july-full-moon-summit/
CATEGORIES:Full Moon Dates
ATTACH;FMTTYPE=image/jpeg:https://serengeticampingsafari.com/wp-content/uploads/2023/12/serengeti-camping-6-jpg.webp
END:VEVENT
BEGIN:VEVENT
DTSTART;VALUE=DATE:20240712
DTEND;VALUE=DATE:20240722
DTSTAMP:20260425T203619
CREATED:20231209T154250Z
LAST-MODIFIED:20231209T155419Z
UID:13225-1720742400-1721606399@serengeticampingsafari.com
SUMMARY:9 DAYS NORTHERN CIRCUIT JULY FULL MOON SUMMIT
DESCRIPTION:9 days northern circuit full moon summit climbing Mount Kilimanjaro is the best adventure begin your new year with\, experience a special night-time adventure aiming to reach the top of Uhuru Peak when the moon is shining brightly.
URL:https://serengeticampingsafari.com/event/9-days-northern-circuit-july-full-moon-summit/
CATEGORIES:Full Moon Dates
ATTACH;FMTTYPE=image/jpeg:https://serengeticampingsafari.com/wp-content/uploads/2023/12/serengeti-camping-3-jpg.webp
END:VEVENT
BEGIN:VEVENT
DTSTART;VALUE=DATE:20240613
DTEND;VALUE=DATE:20240623
DTSTAMP:20260425T203619
CREATED:20231209T153110Z
LAST-MODIFIED:20231209T170658Z
UID:13207-1718236800-1719100799@serengeticampingsafari.com
SUMMARY:8 DAYS LEMOSHO ROUTE JUNE FULL MOON SUMMIT
DESCRIPTION:8 days Lemosho route full moon summit climbing Mount Kilimanjaro is the best adventure begin your new year with\, experience a special night-time adventure aiming to reach the top of Uhuru Peak when the moon is shining brightly.
URL:https://serengeticampingsafari.com/event/8-days-lemosho-route-june-full-moon-summit/
CATEGORIES:Full Moon Dates
ATTACH;FMTTYPE=image/jpeg:https://serengeticampingsafari.com/wp-content/uploads/2023/12/serengeti-camping-5-jpg.webp
END:VEVENT
BEGIN:VEVENT
DTSTART;VALUE=DATE:20240517
DTEND;VALUE=DATE:20240524
DTSTAMP:20260425T203619
CREATED:20231209T152312Z
LAST-MODIFIED:20231209T170707Z
UID:13201-1715904000-1716508799@serengeticampingsafari.com
SUMMARY:7 DAYS RONGAI ROUTE MAY FULL MOON SUMMIT
DESCRIPTION:7 days Rongai route full moon summit climbing Mount Kilimanjaro is the best adventure begin your new year with\, experience a special night-time adventure aiming to reach the top of Uhuru Peak when the moon is shining brightly.
URL:https://serengeticampingsafari.com/event/7-days-rongai-route-may-full-moon-summit/
CATEGORIES:Full Moon Dates
ATTACH;FMTTYPE=image/jpeg:https://serengeticampingsafari.com/wp-content/uploads/2023/12/serengeti-camping-6-jpg.webp
END:VEVENT
BEGIN:VEVENT
DTSTART;VALUE=DATE:20240418
DTEND;VALUE=DATE:20240425
DTSTAMP:20260425T203619
CREATED:20231209T151617Z
LAST-MODIFIED:20231209T170720Z
UID:13195-1713398400-1714003199@serengeticampingsafari.com
SUMMARY:7 DAYS RONGAI ROUTE APRIL FULL MOON SUMMIT
DESCRIPTION:7 days Rongai route full moon summit climbing Mount Kilimanjaro is the best adventure begin your new year with\, experience a special night-time adventure aiming to reach the top of Uhuru Peak when the moon is shining brightly.
URL:https://serengeticampingsafari.com/event/7-days-rongai-route-april-full-moon-summit/
CATEGORIES:Full Moon Dates
ATTACH;FMTTYPE=image/jpeg:https://serengeticampingsafari.com/wp-content/uploads/2023/12/serengeti-camping-2-jpg.webp
END:VEVENT
BEGIN:VEVENT
DTSTART;VALUE=DATE:20240318
DTEND;VALUE=DATE:20240326
DTSTAMP:20260425T203619
CREATED:20231209T145056Z
LAST-MODIFIED:20231209T170816Z
UID:13192-1710720000-1711411199@serengeticampingsafari.com
SUMMARY:7 DAYS RONGAI ROUTE MARCH FULL MOON SUMMIT
DESCRIPTION:7 days Rongai route full moon summit climbing Mount Kilimanjaro is the best adventure begin your new year with\, experience a special night-time adventure aiming to reach the top of Uhuru Peak when the moon is shining brightly.
URL:https://serengeticampingsafari.com/event/7-days-rongai-route-march-full-moon-summit/
CATEGORIES:Full Moon Dates
ATTACH;FMTTYPE=image/jpeg:https://serengeticampingsafari.com/wp-content/uploads/2023/12/serengeti-camping-3-jpg.webp
END:VEVENT
END:VCALENDAR